Package: hpar Version: 1.48.0 Command: /home/biocbuild/R/R/bin/R CMD build --keep-empty-dirs --no-resave-data hpar StartedAt: 2025-02-11 00:10:12 -0000 (Tue, 11 Feb 2025) EndedAt: 2025-02-11 00:11:03 -0000 (Tue, 11 Feb 2025) EllapsedTime: 51.0 seconds RetCode: 0 Status: OK PackageFile: hpar_1.48.0.tar.gz PackageFileSize: 983.1 KiB