Package: hypeR Version: 2.4.0 Command: /Library/Frameworks/R.framework/Resources/bin/R CMD build --keep-empty-dirs --no-resave-data hypeR StartedAt: 2025-02-04 01:35:43 -0500 (Tue, 04 Feb 2025) EndedAt: 2025-02-04 01:36:01 -0500 (Tue, 04 Feb 2025) EllapsedTime: 18.2 seconds RetCode: 0 Status: OK PackageFile: hypeR_2.4.0.tar.gz PackageFileSize: 316.5 KiB