Package: hypeR Version: 2.4.0 Command: /Library/Frameworks/R.framework/Resources/bin/R CMD check --install=check:hypeR.install-out.txt --library=/Library/Frameworks/R.framework/Resources/library --no-vignettes --timings hypeR_2.4.0.tar.gz StartedAt: 2025-02-04 22:43:29 -0500 (Tue, 04 Feb 2025) EndedAt: 2025-02-04 22:46:11 -0500 (Tue, 04 Feb 2025) EllapsedTime: 162.3 seconds RetCode: 0 Status: WARNINGS CheckDir: hypeR.Rcheck Warnings: 2