Package: hypeR Version: 2.4.0 Command: rm -rf hypeR.buildbin-libdir && mkdir hypeR.buildbin-libdir && F:\biocbuild\bbs-3.20-bioc\R\bin\R.exe CMD INSTALL --build --library=hypeR.buildbin-libdir hypeR_2.4.0.tar.gz StartedAt: 2025-02-04 08:42:55 -0500 (Tue, 04 Feb 2025) EndedAt: 2025-02-04 08:43:24 -0500 (Tue, 04 Feb 2025) EllapsedTime: 29.3 seconds RetCode: 0 Status: OK PackageFile: hypeR_2.4.0.zip PackageFileSize: 607 KiB