Package: hypeR Version: 2.4.0 Command: F:\biocbuild\bbs-3.20-bioc\R\bin\R.exe CMD INSTALL hypeR StartedAt: 2025-02-03 16:16:45 -0500 (Mon, 03 Feb 2025) EndedAt: 2025-02-03 16:17:21 -0500 (Mon, 03 Feb 2025) EllapsedTime: 35.3 seconds RetCode: 0 Status: OK