Package: hypeR Version: 2.4.0 Command: /home/biocbuild/R/R/bin/R CMD build --keep-empty-dirs --no-resave-data hypeR StartedAt: 2025-02-04 00:20:18 -0000 (Tue, 04 Feb 2025) EndedAt: 2025-02-04 00:20:35 -0000 (Tue, 04 Feb 2025) EllapsedTime: 17.0 seconds RetCode: 0 Status: OK PackageFile: hypeR_2.4.0.tar.gz PackageFileSize: 340.4 KiB