Package: hypeR Version: 2.4.0 Command: /home/biocbuild/R/R/bin/R CMD INSTALL hypeR StartedAt: 2025-02-03 21:19:02 -0000 (Mon, 03 Feb 2025) EndedAt: 2025-02-03 21:19:13 -0000 (Mon, 03 Feb 2025) EllapsedTime: 11.1 seconds RetCode: 0 Status: OK