Package: iASeq Version: 1.50.0 Command: /Library/Frameworks/R.framework/Resources/bin/R CMD build --keep-empty-dirs --no-resave-data iASeq StartedAt: 2025-02-10 19:38:58 -0500 (Mon, 10 Feb 2025) EndedAt: 2025-02-10 19:39:18 -0500 (Mon, 10 Feb 2025) EllapsedTime: 19.8 seconds RetCode: 0 Status: OK PackageFile: iASeq_1.50.0.tar.gz PackageFileSize: 205.5 KiB