Package: iASeq Version: 1.50.0 Command: /home/biocbuild/bbs-3.20-bioc/R/bin/R CMD build --keep-empty-dirs --no-resave-data --md5 iASeq StartedAt: 2025-02-10 17:43:13 -0500 (Mon, 10 Feb 2025) EndedAt: 2025-02-10 17:43:20 -0500 (Mon, 10 Feb 2025) EllapsedTime: 7.0 seconds RetCode: 0 Status: OK PackageFile: iASeq_1.50.0.tar.gz PackageFileSize: 206.1 KiB