Package: iASeq Version: 1.50.0 Command: rm -rf iASeq.buildbin-libdir && mkdir iASeq.buildbin-libdir && F:\biocbuild\bbs-3.20-bioc\R\bin\R.exe CMD INSTALL --build --library=iASeq.buildbin-libdir iASeq_1.50.0.tar.gz StartedAt: 2025-02-04 08:43:03 -0500 (Tue, 04 Feb 2025) EndedAt: 2025-02-04 08:43:11 -0500 (Tue, 04 Feb 2025) EllapsedTime: 8.1 seconds RetCode: 0 Status: OK PackageFile: iASeq_1.50.0.zip PackageFileSize: 164.2 KiB