Package: iASeq Version: 1.50.0 Command: /home/biocbuild/R/R/bin/R CMD INSTALL iASeq StartedAt: 2025-02-10 21:10:13 -0000 (Mon, 10 Feb 2025) EndedAt: 2025-02-10 21:10:15 -0000 (Mon, 10 Feb 2025) EllapsedTime: 2.4 seconds RetCode: 0 Status: OK