Package: iBMQ Version: 1.46.0 Command: /home/biocbuild/R/R/bin/R CMD check --install=check:iBMQ.install-out.txt --library=/home/biocbuild/R/R/site-library --no-vignettes --timings iBMQ_1.46.0.tar.gz StartedAt: 2025-02-04 07:57:32 -0000 (Tue, 04 Feb 2025) EndedAt: 2025-02-04 07:58:09 -0000 (Tue, 04 Feb 2025) EllapsedTime: 37.0 seconds RetCode: 0 Status: OK CheckDir: iBMQ.Rcheck Warnings: 0