Package: iCARE Version: 1.34.0 Command: rm -rf iCARE.buildbin-libdir && mkdir iCARE.buildbin-libdir && /Users/biocbuild/BBS/utils/build-universal.sh iCARE_1.34.0.tar.gz /Library/Frameworks/R.framework/Resources/bin/R iCARE.buildbin-libdir StartedAt: 2025-02-12 15:28:51 -0500 (Wed, 12 Feb 2025) EndedAt: 2025-02-12 15:29:02 -0500 (Wed, 12 Feb 2025) EllapsedTime: 11.6 seconds RetCode: 0 Status: OK PackageFile: iCARE_1.34.0.tgz PackageFileSize: 1.503 MiB