Package: iCARE Version: 1.34.0 Command: /Library/Frameworks/R.framework/Resources/bin/R CMD build --keep-empty-dirs --no-resave-data iCARE StartedAt: 2025-02-04 01:37:01 -0500 (Tue, 04 Feb 2025) EndedAt: 2025-02-04 01:42:05 -0500 (Tue, 04 Feb 2025) EllapsedTime: 304.1 seconds RetCode: 0 Status: OK PackageFile: iCARE_1.34.0.tar.gz PackageFileSize: 1.42 MiB