Package: iCARE Version: 1.34.0 Command: rm -rf iCARE.buildbin-libdir && mkdir iCARE.buildbin-libdir && /Users/biocbuild/BBS/utils/build-universal.sh iCARE_1.34.0.tar.gz /Library/Frameworks/R.framework/Resources/bin/R iCARE.buildbin-libdir StartedAt: 2025-02-04 13:10:08 -0500 (Tue, 04 Feb 2025) EndedAt: 2025-02-04 13:10:28 -0500 (Tue, 04 Feb 2025) EllapsedTime: 20.6 seconds RetCode: 0 Status: OK PackageFile: iCARE_1.34.0.tgz PackageFileSize: 1.507 MiB