Package: iCARE Version: 1.34.0 Command: rm -rf iCARE.buildbin-libdir && mkdir iCARE.buildbin-libdir && F:\biocbuild\bbs-3.20-bioc\R\bin\R.exe CMD INSTALL --build --library=iCARE.buildbin-libdir iCARE_1.34.0.tar.gz StartedAt: 2025-02-11 08:40:01 -0500 (Tue, 11 Feb 2025) EndedAt: 2025-02-11 08:40:33 -0500 (Tue, 11 Feb 2025) EllapsedTime: 31.6 seconds RetCode: 0 Status: OK PackageFile: iCARE_1.34.0.zip PackageFileSize: 1.346 MiB