Package: iCARE Version: 1.34.0 Command: /home/biocbuild/R/R/bin/R CMD build --keep-empty-dirs --no-resave-data iCARE StartedAt: 2025-02-04 00:20:35 -0000 (Tue, 04 Feb 2025) EndedAt: 2025-02-04 00:25:00 -0000 (Tue, 04 Feb 2025) EllapsedTime: 264.2 seconds RetCode: 0 Status: OK PackageFile: iCARE_1.34.0.tar.gz PackageFileSize: 1.41 MiB