Package: iCARE Version: 1.34.0 Command: /home/biocbuild/R/R/bin/R CMD INSTALL iCARE StartedAt: 2025-02-03 20:57:52 -0000 (Mon, 03 Feb 2025) EndedAt: 2025-02-03 20:58:02 -0000 (Mon, 03 Feb 2025) EllapsedTime: 9.3 seconds RetCode: 0 Status: OK