Package: iCNV Version: 1.26.0 Command: rm -rf iCNV.buildbin-libdir && mkdir iCNV.buildbin-libdir && /Users/biocbuild/BBS/utils/build-universal.sh iCNV_1.26.0.tar.gz /Library/Frameworks/R.framework/Resources/bin/R iCNV.buildbin-libdir StartedAt: 2025-02-05 16:15:12 -0500 (Wed, 05 Feb 2025) EndedAt: 2025-02-05 16:15:56 -0500 (Wed, 05 Feb 2025) EllapsedTime: 44.1 seconds RetCode: 0 Status: OK PackageFile: iCNV_1.26.0.tgz PackageFileSize: 2.433 MiB