Package: iCNV Version: 1.26.0 Command: /Library/Frameworks/R.framework/Resources/bin/R CMD build --keep-empty-dirs --no-resave-data iCNV StartedAt: 2025-02-04 01:38:48 -0500 (Tue, 04 Feb 2025) EndedAt: 2025-02-04 01:41:06 -0500 (Tue, 04 Feb 2025) EllapsedTime: 138.0 seconds RetCode: 0 Status: OK PackageFile: iCNV_1.26.0.tar.gz PackageFileSize: 2.361 MiB