Package: iCNV Version: 1.26.0 Command: /Library/Frameworks/R.framework/Resources/bin/R CMD INSTALL iCNV StartedAt: 2025-02-03 15:59:44 -0500 (Mon, 03 Feb 2025) EndedAt: 2025-02-03 16:00:23 -0500 (Mon, 03 Feb 2025) EllapsedTime: 39.4 seconds RetCode: 0 Status: OK