Package: iCNV Version: 1.26.0 Command: /Library/Frameworks/R.framework/Resources/bin/R CMD build --keep-empty-dirs --no-resave-data iCNV StartedAt: 2025-02-03 19:41:08 -0500 (Mon, 03 Feb 2025) EndedAt: 2025-02-03 19:46:54 -0500 (Mon, 03 Feb 2025) EllapsedTime: 346.1 seconds RetCode: 0 Status: OK PackageFile: iCNV_1.26.0.tar.gz PackageFileSize: 2.36 MiB