Package: iCNV Version: 1.26.0 Command: /Library/Frameworks/R.framework/Resources/bin/R CMD check --install=check:iCNV.install-out.txt --library=/Library/Frameworks/R.framework/Resources/library --no-vignettes --timings iCNV_1.26.0.tar.gz StartedAt: 2025-02-04 05:06:27 -0500 (Tue, 04 Feb 2025) EndedAt: 2025-02-04 05:14:13 -0500 (Tue, 04 Feb 2025) EllapsedTime: 466.3 seconds RetCode: 0 Status: WARNINGS CheckDir: iCNV.Rcheck Warnings: 1