Package: iCNV Version: 1.26.0 Command: /Library/Frameworks/R.framework/Resources/bin/R CMD INSTALL iCNV StartedAt: 2025-02-10 15:37:21 -0500 (Mon, 10 Feb 2025) EndedAt: 2025-02-10 15:38:32 -0500 (Mon, 10 Feb 2025) EllapsedTime: 71.7 seconds RetCode: 0 Status: OK