Package: iCNV Version: 1.26.0 Command: rm -rf iCNV.buildbin-libdir && mkdir iCNV.buildbin-libdir && F:\biocbuild\bbs-3.20-bioc\R\bin\R.exe CMD INSTALL --build --library=iCNV.buildbin-libdir iCNV_1.26.0.tar.gz StartedAt: 2025-02-11 08:40:09 -0500 (Tue, 11 Feb 2025) EndedAt: 2025-02-11 08:41:56 -0500 (Tue, 11 Feb 2025) EllapsedTime: 107.3 seconds RetCode: 0 Status: OK PackageFile: iCNV_1.26.0.zip PackageFileSize: 1.896 MiB