Package: iCOBRA Version: 1.34.0 Maintainer: Charlotte Soneson MaintainerEmail: charlottesoneson at gmail.com git_url: https://git.bioconductor.org/packages/iCOBRA git_branch: RELEASE_3_20 git_last_commit: a5ff075 git_last_commit_date: 2024-10-29 10:05:30 -0500 (Tue, 29 Oct 2024)