Package: iCOBRA Version: 1.34.0 Command: /Library/Frameworks/R.framework/Resources/bin/R CMD build --keep-empty-dirs --no-resave-data iCOBRA StartedAt: 2025-02-04 01:39:13 -0500 (Tue, 04 Feb 2025) EndedAt: 2025-02-04 01:39:45 -0500 (Tue, 04 Feb 2025) EllapsedTime: 32.8 seconds RetCode: 0 Status: OK PackageFile: iCOBRA_1.34.0.tar.gz PackageFileSize: 3.125 MiB