Package: iCOBRA Version: 1.34.0 Command: chmod a+r iCOBRA -R && F:\biocbuild\bbs-3.20-bioc\R\bin\R.exe CMD build --keep-empty-dirs --no-resave-data iCOBRA StartedAt: 2025-02-03 19:49:01 -0500 (Mon, 03 Feb 2025) EndedAt: 2025-02-03 19:49:48 -0500 (Mon, 03 Feb 2025) EllapsedTime: 47.4 seconds RetCode: 0 Status: OK PackageFile: iCOBRA_1.34.0.tar.gz PackageFileSize: 2.806 MiB