Package: iCOBRA Version: 1.34.0 Command: /home/biocbuild/R/R/bin/R CMD build --keep-empty-dirs --no-resave-data iCOBRA StartedAt: 2025-02-04 00:21:09 -0000 (Tue, 04 Feb 2025) EndedAt: 2025-02-04 00:21:42 -0000 (Tue, 04 Feb 2025) EllapsedTime: 33.0 seconds RetCode: 0 Status: OK PackageFile: iCOBRA_1.34.0.tar.gz PackageFileSize: 2.84 MiB