Package: iCOBRA Version: 1.34.0 Command: /home/biocbuild/R/R/bin/R CMD INSTALL iCOBRA StartedAt: 2025-02-03 20:58:15 -0000 (Mon, 03 Feb 2025) EndedAt: 2025-02-03 20:58:30 -0000 (Mon, 03 Feb 2025) EllapsedTime: 14.2 seconds RetCode: 0 Status: OK