Package: iCheck Version: 1.36.0 Command: /Library/Frameworks/R.framework/Resources/bin/R CMD build --keep-empty-dirs --no-resave-data iCheck StartedAt: 2025-02-11 01:42:07 -0500 (Tue, 11 Feb 2025) EndedAt: 2025-02-11 01:43:35 -0500 (Tue, 11 Feb 2025) EllapsedTime: 88.2 seconds RetCode: 0 Status: OK PackageFile: iCheck_1.36.0.tar.gz PackageFileSize: 559.3 KiB