Package: iCheck Version: 1.36.0 Command: /Library/Frameworks/R.framework/Resources/bin/R CMD check --install=check:iCheck.install-out.txt --library=/Library/Frameworks/R.framework/Resources/library --no-vignettes --timings iCheck_1.36.0.tar.gz StartedAt: 2025-02-04 22:47:07 -0500 (Tue, 04 Feb 2025) EndedAt: 2025-02-04 22:53:01 -0500 (Tue, 04 Feb 2025) EllapsedTime: 353.7 seconds RetCode: 0 Status: OK CheckDir: iCheck.Rcheck Warnings: 0