Package: iCheck Version: 1.36.0 Command: /Library/Frameworks/R.framework/Resources/bin/R CMD INSTALL iCheck StartedAt: 2025-02-10 18:10:44 -0500 (Mon, 10 Feb 2025) EndedAt: 2025-02-10 18:11:43 -0500 (Mon, 10 Feb 2025) EllapsedTime: 58.4 seconds RetCode: 0 Status: OK