Package: iCheck Version: 1.36.0 Command: /Library/Frameworks/R.framework/Resources/bin/R CMD INSTALL iCheck StartedAt: 2025-02-10 16:39:15 -0500 (Mon, 10 Feb 2025) EndedAt: 2025-02-10 16:40:55 -0500 (Mon, 10 Feb 2025) EllapsedTime: 99.5 seconds RetCode: 0 Status: OK