Package: iCheck Version: 1.36.0 Command: /home/biocbuild/bbs-3.20-bioc/R/bin/R CMD build --keep-empty-dirs --no-resave-data --md5 iCheck StartedAt: 2025-02-10 17:43:33 -0500 (Mon, 10 Feb 2025) EndedAt: 2025-02-10 17:44:37 -0500 (Mon, 10 Feb 2025) EllapsedTime: 64.1 seconds RetCode: 0 Status: OK PackageFile: iCheck_1.36.0.tar.gz PackageFileSize: 560.8 KiB