Package: iCheck Version: 1.36.0 Command: /home/biocbuild/bbs-3.20-bioc/R/bin/R CMD check --install=check:iCheck.install-out.txt --library=/home/biocbuild/bbs-3.20-bioc/R/site-library --timings iCheck_1.36.0.tar.gz StartedAt: 2025-02-03 23:17:44 -0500 (Mon, 03 Feb 2025) EndedAt: 2025-02-03 23:23:12 -0500 (Mon, 03 Feb 2025) EllapsedTime: 328.4 seconds RetCode: 0 Status: OK CheckDir: iCheck.Rcheck Warnings: 0