Package: iCheck Version: 1.36.0 Command: /home/biocbuild/R/R/bin/R CMD build --keep-empty-dirs --no-resave-data iCheck StartedAt: 2025-02-11 00:11:49 -0000 (Tue, 11 Feb 2025) EndedAt: 2025-02-11 00:13:10 -0000 (Tue, 11 Feb 2025) EllapsedTime: 80.0 seconds RetCode: 0 Status: OK PackageFile: iCheck_1.36.0.tar.gz PackageFileSize: 547.4 KiB