Package: iCheck Version: 1.36.0 Command: /home/biocbuild/R/R/bin/R CMD check --install=check:iCheck.install-out.txt --library=/home/biocbuild/R/R/site-library --no-vignettes --timings iCheck_1.36.0.tar.gz StartedAt: 2025-02-04 07:57:44 -0000 (Tue, 04 Feb 2025) EndedAt: 2025-02-04 08:03:52 -0000 (Tue, 04 Feb 2025) EllapsedTime: 367.3 seconds RetCode: 0 Status: WARNINGS CheckDir: iCheck.Rcheck Warnings: 1