Package: iCheck Version: 1.36.0 Command: /home/biocbuild/R/R/bin/R CMD INSTALL iCheck StartedAt: 2025-02-03 21:22:38 -0000 (Mon, 03 Feb 2025) EndedAt: 2025-02-03 21:23:39 -0000 (Mon, 03 Feb 2025) EllapsedTime: 61.0 seconds RetCode: 0 Status: OK