Package: iChip Version: 1.60.0 Command: rm -rf iChip.buildbin-libdir && mkdir iChip.buildbin-libdir && /Users/biocbuild/BBS/utils/build-universal.sh iChip_1.60.0.tar.gz /Library/Frameworks/R.framework/Resources/bin/R iChip.buildbin-libdir StartedAt: 2025-02-05 16:15:06 -0500 (Wed, 05 Feb 2025) EndedAt: 2025-02-05 16:15:12 -0500 (Wed, 05 Feb 2025) EllapsedTime: 5.6 seconds RetCode: 0 Status: OK PackageFile: iChip_1.60.0.tgz PackageFileSize: 1.935 MiB