Package: iChip Version: 1.60.0 Command: /Library/Frameworks/R.framework/Resources/bin/R CMD build --keep-empty-dirs --no-resave-data iChip StartedAt: 2025-02-04 01:37:29 -0500 (Tue, 04 Feb 2025) EndedAt: 2025-02-04 01:38:43 -0500 (Tue, 04 Feb 2025) EllapsedTime: 74.2 seconds RetCode: 0 Status: OK PackageFile: iChip_1.60.0.tar.gz PackageFileSize: 1.708 MiB