Package: iChip Version: 1.60.0 Command: /Library/Frameworks/R.framework/Resources/bin/R CMD check --install=check:iChip.install-out.txt --library=/Library/Frameworks/R.framework/Resources/library --no-vignettes --timings iChip_1.60.0.tar.gz StartedAt: 2025-01-31 22:15:32 -0500 (Fri, 31 Jan 2025) EndedAt: 2025-01-31 22:16:15 -0500 (Fri, 31 Jan 2025) EllapsedTime: 42.9 seconds RetCode: 0 Status: WARNINGS CheckDir: iChip.Rcheck Warnings: 1