Package: iChip Version: 1.60.0 Command: /Library/Frameworks/R.framework/Resources/bin/R CMD build --keep-empty-dirs --no-resave-data iChip StartedAt: 2025-02-03 19:40:59 -0500 (Mon, 03 Feb 2025) EndedAt: 2025-02-03 19:42:13 -0500 (Mon, 03 Feb 2025) EllapsedTime: 73.8 seconds RetCode: 0 Status: OK PackageFile: iChip_1.60.0.tar.gz PackageFileSize: 1.708 MiB