Package: iChip Version: 1.60.0 Command: rm -rf iChip.buildbin-libdir && mkdir iChip.buildbin-libdir && F:\biocbuild\bbs-3.20-bioc\R\bin\R.exe CMD INSTALL --build --library=iChip.buildbin-libdir iChip_1.60.0.tar.gz StartedAt: 2025-02-04 08:43:18 -0500 (Tue, 04 Feb 2025) EndedAt: 2025-02-04 08:43:26 -0500 (Tue, 04 Feb 2025) EllapsedTime: 8.2 seconds RetCode: 0 Status: OK PackageFile: iChip_1.60.0.zip PackageFileSize: 1.809 MiB