Package: iChip Version: 1.60.0 Command: chmod a+r iChip -R && F:\biocbuild\bbs-3.20-bioc\R\bin\R.exe CMD build --keep-empty-dirs --no-resave-data iChip StartedAt: 2025-02-03 19:48:29 -0500 (Mon, 03 Feb 2025) EndedAt: 2025-02-03 19:49:31 -0500 (Mon, 03 Feb 2025) EllapsedTime: 61.2 seconds RetCode: 0 Status: OK PackageFile: iChip_1.60.0.tar.gz PackageFileSize: 1.59 MiB