Package: iChip Version: 1.60.0 Command: F:\biocbuild\bbs-3.20-bioc\R\bin\R.exe CMD check --no-multiarch --install=check:iChip.install-out.txt --library=F:\biocbuild\bbs-3.20-bioc\R\library --no-vignettes --timings iChip_1.60.0.tar.gz StartedAt: 2025-02-04 02:49:39 -0500 (Tue, 04 Feb 2025) EndedAt: 2025-02-04 02:50:29 -0500 (Tue, 04 Feb 2025) EllapsedTime: 50.2 seconds RetCode: 0 Status: WARNINGS CheckDir: iChip.Rcheck Warnings: 1