Package: iGC Version: 1.36.0 Command: /Library/Frameworks/R.framework/Resources/bin/R CMD build --keep-empty-dirs --no-resave-data iGC StartedAt: 2025-02-04 01:41:49 -0500 (Tue, 04 Feb 2025) EndedAt: 2025-02-04 01:42:19 -0500 (Tue, 04 Feb 2025) EllapsedTime: 30.1 seconds RetCode: 0 Status: OK PackageFile: iGC_1.36.0.tar.gz PackageFileSize: 2.951 MiB