Package: iGC Version: 1.36.0 Command: /Library/Frameworks/R.framework/Resources/bin/R CMD INSTALL iGC StartedAt: 2025-02-03 15:13:16 -0500 (Mon, 03 Feb 2025) EndedAt: 2025-02-03 15:13:20 -0500 (Mon, 03 Feb 2025) EllapsedTime: 3.4 seconds RetCode: 0 Status: OK