Package: iGC Version: 1.36.0 Command: rm -rf iGC.buildbin-libdir && mkdir iGC.buildbin-libdir && /Users/biocbuild/BBS/utils/build-universal.sh iGC_1.36.0.tar.gz /Library/Frameworks/R.framework/Resources/bin/R iGC.buildbin-libdir StartedAt: 2025-01-31 12:59:44 -0500 (Fri, 31 Jan 2025) EndedAt: 2025-01-31 12:59:53 -0500 (Fri, 31 Jan 2025) EllapsedTime: 8.9 seconds RetCode: 0 Status: OK PackageFile: iGC_1.36.0.tgz PackageFileSize: 3.147 MiB