Package: iGC Version: 1.36.0 Command: /Library/Frameworks/R.framework/Resources/bin/R CMD check --install=check:iGC.install-out.txt --library=/Library/Frameworks/R.framework/Resources/library --no-vignettes --timings iGC_1.36.0.tar.gz StartedAt: 2025-02-04 05:08:17 -0500 (Tue, 04 Feb 2025) EndedAt: 2025-02-04 05:09:14 -0500 (Tue, 04 Feb 2025) EllapsedTime: 56.8 seconds RetCode: 0 Status: OK CheckDir: iGC.Rcheck Warnings: 0